BEGIN:VCALENDAR
VERSION:2.0
PRODID:-// - ECPv6.15.20//NONSGML v1.0//EN
CALSCALE:GREGORIAN
METHOD:PUBLISH
X-ORIGINAL-URL:https://fayette.lib.wv.us
X-WR-CALDESC:Events for 
REFRESH-INTERVAL;VALUE=DURATION:PT1H
X-Robots-Tag:noindex
X-PUBLISHED-TTL:PT1H
BEGIN:VTIMEZONE
TZID:America/New_York
BEGIN:DAYLIGHT
TZOFFSETFROM:-0500
TZOFFSETTO:-0400
TZNAME:EDT
DTSTART:20250309T070000
END:DAYLIGHT
BEGIN:STANDARD
TZOFFSETFROM:-0400
TZOFFSETTO:-0500
TZNAME:EST
DTSTART:20251102T060000
END:STANDARD
BEGIN:DAYLIGHT
TZOFFSETFROM:-0500
TZOFFSETTO:-0400
TZNAME:EDT
DTSTART:20260308T070000
END:DAYLIGHT
BEGIN:STANDARD
TZOFFSETFROM:-0400
TZOFFSETTO:-0500
TZNAME:EST
DTSTART:20261101T060000
END:STANDARD
BEGIN:DAYLIGHT
TZOFFSETFROM:-0500
TZOFFSETTO:-0400
TZNAME:EDT
DTSTART:20270314T070000
END:DAYLIGHT
BEGIN:STANDARD
TZOFFSETFROM:-0400
TZOFFSETTO:-0500
TZNAME:EST
DTSTART:20271107T060000
END:STANDARD
END:VTIMEZONE
BEGIN:VEVENT
DTSTART;TZID=America/New_York:20260420T073000
DTEND;TZID=America/New_York:20260420T100000
DTSTAMP:20260422T050541
CREATED:20251029T114919Z
LAST-MODIFIED:20260407T162456Z
UID:2881-1776670200-1776679200@fayette.lib.wv.us
SUMMARY:Divide Elementary School
DESCRIPTION:
URL:https://fayette.lib.wv.us/events/divide-elementary-school-4/
LOCATION:Divide Elementary School\, WV\, United States
END:VEVENT
BEGIN:VEVENT
DTSTART;TZID=America/New_York:20260420T103000
DTEND;TZID=America/New_York:20260420T110000
DTSTAMP:20260422T050541
CREATED:20260407T162629Z
LAST-MODIFIED:20260407T162629Z
UID:3212-1776681000-1776682800@fayette.lib.wv.us
SUMMARY:Oak Hill Senior Center
DESCRIPTION:
URL:https://fayette.lib.wv.us/events/oak-hill-senior-center/
END:VEVENT
BEGIN:VEVENT
DTSTART;TZID=America/New_York:20260420T120000
DTEND;TZID=America/New_York:20260420T130000
DTSTAMP:20260422T050541
CREATED:20251029T115101Z
LAST-MODIFIED:20260407T161610Z
UID:2888-1776686400-1776690000@fayette.lib.wv.us
SUMMARY:Mountain State Montessori
DESCRIPTION:
URL:https://fayette.lib.wv.us/events/mountain-state-montessori-2/
LOCATION:Mountain State Montessori
END:VEVENT
BEGIN:VEVENT
DTSTART;TZID=America/New_York:20260420T133000
DTEND;TZID=America/New_York:20260420T143000
DTSTAMP:20260422T050541
CREATED:20251028T235414Z
LAST-MODIFIED:20260407T161626Z
UID:2823-1776691800-1776695400@fayette.lib.wv.us
SUMMARY:Pax
DESCRIPTION:
URL:https://fayette.lib.wv.us/events/pax-2/
LOCATION:Pax\, 251 Main St\, Pax\, WV\, 25904\, United States
END:VEVENT
END:VCALENDAR