BEGIN:VCALENDAR
VERSION:2.0
PRODID:-// - ECPv6.15.20//NONSGML v1.0//EN
CALSCALE:GREGORIAN
METHOD:PUBLISH
X-ORIGINAL-URL:https://fayette.lib.wv.us
X-WR-CALDESC:Events for 
REFRESH-INTERVAL;VALUE=DURATION:PT1H
X-Robots-Tag:noindex
X-PUBLISHED-TTL:PT1H
BEGIN:VTIMEZONE
TZID:America/New_York
BEGIN:DAYLIGHT
TZOFFSETFROM:-0500
TZOFFSETTO:-0400
TZNAME:EDT
DTSTART:20250309T070000
END:DAYLIGHT
BEGIN:STANDARD
TZOFFSETFROM:-0400
TZOFFSETTO:-0500
TZNAME:EST
DTSTART:20251102T060000
END:STANDARD
BEGIN:DAYLIGHT
TZOFFSETFROM:-0500
TZOFFSETTO:-0400
TZNAME:EDT
DTSTART:20260308T070000
END:DAYLIGHT
BEGIN:STANDARD
TZOFFSETFROM:-0400
TZOFFSETTO:-0500
TZNAME:EST
DTSTART:20261101T060000
END:STANDARD
BEGIN:DAYLIGHT
TZOFFSETFROM:-0500
TZOFFSETTO:-0400
TZNAME:EDT
DTSTART:20270314T070000
END:DAYLIGHT
BEGIN:STANDARD
TZOFFSETFROM:-0400
TZOFFSETTO:-0500
TZNAME:EST
DTSTART:20271107T060000
END:STANDARD
END:VTIMEZONE
BEGIN:VEVENT
DTSTART;TZID=America/New_York:20260306T125500
DTEND;TZID=America/New_York:20260306T134000
DTSTAMP:20260423T072214
CREATED:20251028T232453Z
LAST-MODIFIED:20260211T152314Z
UID:2812-1772801700-1772804400@fayette.lib.wv.us
SUMMARY:Oak Hill High School
DESCRIPTION:
URL:https://fayette.lib.wv.us/events/oak-hill-high-school/
LOCATION:Oak Hill High School\, WV\, United States
END:VEVENT
BEGIN:VEVENT
DTSTART;TZID=America/New_York:20260414T090000
DTEND;TZID=America/New_York:20260414T143000
DTSTAMP:20260423T072214
CREATED:20251021T084604Z
LAST-MODIFIED:20260407T161144Z
UID:2527-1776157200-1776177000@fayette.lib.wv.us
SUMMARY:New River Primary School
DESCRIPTION:
URL:https://fayette.lib.wv.us/events/new-river-primary-school-3/
LOCATION:New River Primary School\, WV\, United States
END:VEVENT
BEGIN:VEVENT
DTSTART;TZID=America/New_York:20260415T090000
DTEND;TZID=America/New_York:20260415T143000
DTSTAMP:20260423T072214
CREATED:20251029T114103Z
LAST-MODIFIED:20260407T161239Z
UID:2862-1776243600-1776263400@fayette.lib.wv.us
SUMMARY:New River Intermediate School
DESCRIPTION:
URL:https://fayette.lib.wv.us/events/new-river-intermediate-school-5/
LOCATION:New River Intermediate School\, WV\, United States
END:VEVENT
BEGIN:VEVENT
DTSTART;TZID=America/New_York:20260416T090000
DTEND;TZID=America/New_York:20260416T143000
DTSTAMP:20260423T072214
CREATED:20251029T114606Z
LAST-MODIFIED:20260407T161407Z
UID:2868-1776330000-1776349800@fayette.lib.wv.us
SUMMARY:New River Intermediate School
DESCRIPTION:
URL:https://fayette.lib.wv.us/events/new-river-intermediate-school-6/
LOCATION:New River Intermediate School\, WV\, United States
END:VEVENT
BEGIN:VEVENT
DTSTART;TZID=America/New_York:20260417T090000
DTEND;TZID=America/New_York:20260417T143000
DTSTAMP:20260423T072214
CREATED:20251029T114709Z
LAST-MODIFIED:20260407T161441Z
UID:2873-1776416400-1776436200@fayette.lib.wv.us
SUMMARY:Fayetteville School
DESCRIPTION:
URL:https://fayette.lib.wv.us/events/fayetteville-school-3/
LOCATION:Fayetteville School\, WV\, United States
END:VEVENT
BEGIN:VEVENT
DTSTART;TZID=America/New_York:20260417T125500
DTEND;TZID=America/New_York:20260417T134000
DTSTAMP:20260423T072214
CREATED:20251029T114807Z
LAST-MODIFIED:20260407T161512Z
UID:2877-1776430500-1776433200@fayette.lib.wv.us
SUMMARY:Oak Hill High School
DESCRIPTION:
URL:https://fayette.lib.wv.us/events/oak-hill-high-school-2/
LOCATION:Oak Hill High School\, WV\, United States
END:VEVENT
BEGIN:VEVENT
DTSTART;TZID=America/New_York:20260420T073000
DTEND;TZID=America/New_York:20260420T100000
DTSTAMP:20260423T072214
CREATED:20251029T114919Z
LAST-MODIFIED:20260407T162456Z
UID:2881-1776670200-1776679200@fayette.lib.wv.us
SUMMARY:Divide Elementary School
DESCRIPTION:
URL:https://fayette.lib.wv.us/events/divide-elementary-school-4/
LOCATION:Divide Elementary School\, WV\, United States
END:VEVENT
BEGIN:VEVENT
DTSTART;TZID=America/New_York:20260420T120000
DTEND;TZID=America/New_York:20260420T130000
DTSTAMP:20260423T072214
CREATED:20251029T115101Z
LAST-MODIFIED:20260407T161610Z
UID:2888-1776686400-1776690000@fayette.lib.wv.us
SUMMARY:Mountain State Montessori
DESCRIPTION:
URL:https://fayette.lib.wv.us/events/mountain-state-montessori-2/
LOCATION:Mountain State Montessori
END:VEVENT
BEGIN:VEVENT
DTSTART;TZID=America/New_York:20260421T083000
DTEND;TZID=America/New_York:20260421T140000
DTSTAMP:20260423T072214
CREATED:20251029T115618Z
LAST-MODIFIED:20260407T161658Z
UID:2904-1776760200-1776780000@fayette.lib.wv.us
SUMMARY:Oak Hill Middle School
DESCRIPTION:
URL:https://fayette.lib.wv.us/events/oak-hill-middle-school-5/
LOCATION:Oak Hill Middle School\, WV\, United States
END:VEVENT
BEGIN:VEVENT
DTSTART;TZID=America/New_York:20260422T090000
DTEND;TZID=America/New_York:20260422T103000
DTSTAMP:20260423T072214
CREATED:20251028T235552Z
LAST-MODIFIED:20260407T161712Z
UID:2829-1776848400-1776853800@fayette.lib.wv.us
SUMMARY:St Peter and Paul Catholic School
DESCRIPTION:
URL:https://fayette.lib.wv.us/events/st-peter-and-paul-catholic-school-3/
LOCATION:St Peter and Paul Catholic School\, WV\, United States
END:VEVENT
BEGIN:VEVENT
DTSTART;TZID=America/New_York:20260422T110000
DTEND;TZID=America/New_York:20260422T120000
DTSTAMP:20260423T072214
CREATED:20251029T115909Z
LAST-MODIFIED:20260407T161722Z
UID:2908-1776855600-1776859200@fayette.lib.wv.us
SUMMARY:Midland Trail
DESCRIPTION:
URL:https://fayette.lib.wv.us/events/midland-trail-3/
LOCATION:Midland Trail High School\, WV\, United States
END:VEVENT
BEGIN:VEVENT
DTSTART;TZID=America/New_York:20260422T125500
DTEND;TZID=America/New_York:20260422T145500
DTSTAMP:20260423T072214
CREATED:20251028T235734Z
LAST-MODIFIED:20260407T161757Z
UID:2834-1776862500-1776869700@fayette.lib.wv.us
SUMMARY:Solid Rock Christian Academy
DESCRIPTION:
URL:https://fayette.lib.wv.us/events/solid-rock-christian-academy-3/
LOCATION:Solid Rock Christian Academy\, WV\, United States
END:VEVENT
BEGIN:VEVENT
DTSTART;TZID=America/New_York:20260423T090000
DTEND;TZID=America/New_York:20260423T113000
DTSTAMP:20260423T072214
CREATED:20251003T210659Z
LAST-MODIFIED:20260407T161816Z
UID:2398-1776934800-1776943800@fayette.lib.wv.us
SUMMARY:Meadow Bridge Elementary School
DESCRIPTION:
URL:https://fayette.lib.wv.us/events/meadow-bridge-elementary-school/
LOCATION:Meadow Bridge Elementary School\, WV\, United States
END:VEVENT
BEGIN:VEVENT
DTSTART;TZID=America/New_York:20260423T113000
DTEND;TZID=America/New_York:20260423T143000
DTSTAMP:20260423T072214
CREATED:20251021T083622Z
LAST-MODIFIED:20260407T161824Z
UID:2509-1776943800-1776954600@fayette.lib.wv.us
SUMMARY:Meadow Bridge High School
DESCRIPTION:
URL:https://fayette.lib.wv.us/events/meadow-bridge-high-school-2/
LOCATION:Meadow Bridge High School\, WV\, United States
END:VEVENT
BEGIN:VEVENT
DTSTART;TZID=America/New_York:20260423T131500
DTEND;TZID=America/New_York:20260423T140000
DTSTAMP:20260423T072214
CREATED:20260422T192705Z
LAST-MODIFIED:20260422T192705Z
UID:3285-1776950100-1776952800@fayette.lib.wv.us
SUMMARY:DANESE CHRISTIAN SCHOOL
DESCRIPTION:
URL:https://fayette.lib.wv.us/events/danese-christian-school/
END:VEVENT
BEGIN:VEVENT
DTSTART;TZID=America/New_York:20260423T141500
DTEND;TZID=America/New_York:20260423T143000
DTSTAMP:20260423T072214
CREATED:20260422T192729Z
LAST-MODIFIED:20260422T192729Z
UID:3287-1776953700-1776954600@fayette.lib.wv.us
SUMMARY:CHESTNUT KNOB CHURCH
DESCRIPTION:
URL:https://fayette.lib.wv.us/events/chestnut-knob-church/
END:VEVENT
BEGIN:VEVENT
DTSTART;TZID=America/New_York:20260424T083000
DTEND;TZID=America/New_York:20260424T140000
DTSTAMP:20260423T072214
CREATED:20251029T122128Z
LAST-MODIFIED:20260407T161858Z
UID:2939-1777019400-1777039200@fayette.lib.wv.us
SUMMARY:Valley School
DESCRIPTION:
URL:https://fayette.lib.wv.us/events/valley-school-3/
LOCATION:Valley School\, WV\, United States
END:VEVENT
BEGIN:VEVENT
DTSTART;TZID=America/New_York:20260424T141500
DTEND;TZID=America/New_York:20260424T144500
DTSTAMP:20260423T072214
CREATED:20251029T122200Z
LAST-MODIFIED:20260407T161908Z
UID:2941-1777040100-1777041900@fayette.lib.wv.us
SUMMARY:Boomer Baptist School
DESCRIPTION:
URL:https://fayette.lib.wv.us/events/boomer-baptist-school-3/
LOCATION:Boomer Baptist School\, WV\, United States
END:VEVENT
BEGIN:VEVENT
DTSTART;TZID=America/New_York:20260427T090000
DTEND;TZID=America/New_York:20260427T143000
DTSTAMP:20260423T072214
CREATED:20251003T211944Z
LAST-MODIFIED:20260407T162011Z
UID:2422-1777280400-1777300200@fayette.lib.wv.us
SUMMARY:New River Primary School
DESCRIPTION:
URL:https://fayette.lib.wv.us/events/new-river-primary-school-2/
LOCATION:New River Primary School\, WV\, United States
END:VEVENT
BEGIN:VEVENT
DTSTART;TZID=America/New_York:20260427T150000
DTEND;TZID=America/New_York:20260427T153000
DTSTAMP:20260423T072214
CREATED:20260422T192443Z
LAST-MODIFIED:20260422T192443Z
UID:3276-1777302000-1777303800@fayette.lib.wv.us
SUMMARY:FAYETTE MANOR
DESCRIPTION:
URL:https://fayette.lib.wv.us/events/fayette-manor/
END:VEVENT
BEGIN:VEVENT
DTSTART;TZID=America/New_York:20260428T090000
DTEND;TZID=America/New_York:20260428T140000
DTSTAMP:20260423T072214
CREATED:20251029T113601Z
LAST-MODIFIED:20260407T162510Z
UID:2855-1777366800-1777384800@fayette.lib.wv.us
SUMMARY:New River Primary School
DESCRIPTION:
URL:https://fayette.lib.wv.us/events/new-river-primary-school-5/
LOCATION:New River Primary School\, WV\, United States
END:VEVENT
BEGIN:VEVENT
DTSTART;TZID=America/New_York:20260428T150000
DTEND;TZID=America/New_York:20260428T153000
DTSTAMP:20260423T072214
CREATED:20260422T192500Z
LAST-MODIFIED:20260422T192500Z
UID:3278-1777388400-1777390200@fayette.lib.wv.us
SUMMARY:OH PLACE
DESCRIPTION:
URL:https://fayette.lib.wv.us/events/oh-place/
END:VEVENT
BEGIN:VEVENT
DTSTART;TZID=America/New_York:20260429T090000
DTEND;TZID=America/New_York:20260429T143000
DTSTAMP:20260423T072214
CREATED:20251003T212140Z
LAST-MODIFIED:20260407T162032Z
UID:2427-1777453200-1777473000@fayette.lib.wv.us
SUMMARY:New River Intermediate School
DESCRIPTION:
URL:https://fayette.lib.wv.us/events/new-river-intermediate-school/
LOCATION:New River Intermediate School\, WV\, United States
END:VEVENT
BEGIN:VEVENT
DTSTART;TZID=America/New_York:20260429T150000
DTEND;TZID=America/New_York:20260429T153000
DTSTAMP:20260423T072214
CREATED:20260422T192516Z
LAST-MODIFIED:20260422T192516Z
UID:3280-1777474800-1777476600@fayette.lib.wv.us
SUMMARY:FAYETTE HILLS
DESCRIPTION:
URL:https://fayette.lib.wv.us/events/fayette-hills-2/
END:VEVENT
BEGIN:VEVENT
DTSTART;TZID=America/New_York:20260430T090000
DTEND;TZID=America/New_York:20260430T143000
DTSTAMP:20260423T072214
CREATED:20251003T212401Z
LAST-MODIFIED:20260407T162052Z
UID:2433-1777539600-1777559400@fayette.lib.wv.us
SUMMARY:New River Intermediate School
DESCRIPTION:
URL:https://fayette.lib.wv.us/events/new-river-intermediate-school-2/
LOCATION:New River Intermediate School\, WV\, United States
END:VEVENT
BEGIN:VEVENT
DTSTART;TZID=America/New_York:20260430T150000
DTEND;TZID=America/New_York:20260430T160000
DTSTAMP:20260423T072214
CREATED:20260422T192537Z
LAST-MODIFIED:20260422T192537Z
UID:3282-1777561200-1777564800@fayette.lib.wv.us
SUMMARY:NEW RIVER CLINIC
DESCRIPTION:
URL:https://fayette.lib.wv.us/events/new-river-clinic-3/
END:VEVENT
BEGIN:VEVENT
DTSTART;TZID=America/New_York:20260501T090000
DTEND;TZID=America/New_York:20260501T143000
DTSTAMP:20260423T072214
CREATED:20251021T085616Z
LAST-MODIFIED:20260407T162112Z
UID:2547-1777626000-1777645800@fayette.lib.wv.us
SUMMARY:Fayetteville School
DESCRIPTION:
URL:https://fayette.lib.wv.us/events/fayetteville-school-2/
LOCATION:Fayetteville School\, WV\, United States
END:VEVENT
BEGIN:VEVENT
DTSTART;TZID=America/New_York:20260501T144500
DTEND;TZID=America/New_York:20260501T154500
DTSTAMP:20260423T072214
CREATED:20260422T192807Z
LAST-MODIFIED:20260422T192807Z
UID:3289-1777646700-1777650300@fayette.lib.wv.us
SUMMARY:WALMART
DESCRIPTION:
URL:https://fayette.lib.wv.us/events/walmart/
END:VEVENT
BEGIN:VEVENT
DTSTART;TZID=America/New_York:20260504T090000
DTEND;TZID=America/New_York:20260504T110000
DTSTAMP:20260423T072214
CREATED:20251029T114850Z
LAST-MODIFIED:20260407T161556Z
UID:2879-1777885200-1777892400@fayette.lib.wv.us
SUMMARY:Ansted Elementary School
DESCRIPTION:
URL:https://fayette.lib.wv.us/events/ansted-elementary-school-3/
LOCATION:Ansted Elementary School\, WV\, United States
END:VEVENT
BEGIN:VEVENT
DTSTART;TZID=America/New_York:20260504T120000
DTEND;TZID=America/New_York:20260504T130000
DTSTAMP:20260423T072214
CREATED:20251029T115039Z
LAST-MODIFIED:20260407T162158Z
UID:2885-1777896000-1777899600@fayette.lib.wv.us
SUMMARY:Mountain State Montessori
DESCRIPTION:
URL:https://fayette.lib.wv.us/events/mountain-state-montessori/
LOCATION:Mountain State Montessori
END:VEVENT
END:VCALENDAR