BEGIN:VCALENDAR
VERSION:2.0
PRODID:-// - ECPv6.15.20//NONSGML v1.0//EN
CALSCALE:GREGORIAN
METHOD:PUBLISH
X-ORIGINAL-URL:https://fayette.lib.wv.us
X-WR-CALDESC:Events for 
REFRESH-INTERVAL;VALUE=DURATION:PT1H
X-Robots-Tag:noindex
X-PUBLISHED-TTL:PT1H
BEGIN:VTIMEZONE
TZID:America/New_York
BEGIN:DAYLIGHT
TZOFFSETFROM:-0500
TZOFFSETTO:-0400
TZNAME:EDT
DTSTART:20250309T070000
END:DAYLIGHT
BEGIN:STANDARD
TZOFFSETFROM:-0400
TZOFFSETTO:-0500
TZNAME:EST
DTSTART:20251102T060000
END:STANDARD
BEGIN:DAYLIGHT
TZOFFSETFROM:-0500
TZOFFSETTO:-0400
TZNAME:EDT
DTSTART:20260308T070000
END:DAYLIGHT
BEGIN:STANDARD
TZOFFSETFROM:-0400
TZOFFSETTO:-0500
TZNAME:EST
DTSTART:20261101T060000
END:STANDARD
BEGIN:DAYLIGHT
TZOFFSETFROM:-0500
TZOFFSETTO:-0400
TZNAME:EDT
DTSTART:20270314T070000
END:DAYLIGHT
BEGIN:STANDARD
TZOFFSETFROM:-0400
TZOFFSETTO:-0500
TZNAME:EST
DTSTART:20271107T060000
END:STANDARD
END:VTIMEZONE
BEGIN:VEVENT
DTSTART;TZID=America/New_York:20260507T090000
DTEND;TZID=America/New_York:20260507T113000
DTSTAMP:20260423T121240
CREATED:20251029T120648Z
LAST-MODIFIED:20260407T162340Z
UID:2929-1778144400-1778153400@fayette.lib.wv.us
SUMMARY:Meadow Bridge Elementary School
DESCRIPTION:
URL:https://fayette.lib.wv.us/events/meadow-bridge-elementary-school-3/
LOCATION:Meadow Bridge Elementary School\, WV\, United States
END:VEVENT
BEGIN:VEVENT
DTSTART;TZID=America/New_York:20260507T113000
DTEND;TZID=America/New_York:20260507T130000
DTSTAMP:20260423T121240
CREATED:20251029T120716Z
LAST-MODIFIED:20260407T162349Z
UID:2931-1778153400-1778158800@fayette.lib.wv.us
SUMMARY:Meadow Bridge High School
DESCRIPTION:
URL:https://fayette.lib.wv.us/events/meadow-bridge-high-school-3/
LOCATION:Meadow Bridge High School\, WV\, United States
END:VEVENT
BEGIN:VEVENT
DTSTART;TZID=America/New_York:20260507T131500
DTEND;TZID=America/New_York:20260507T140000
DTSTAMP:20260423T121240
CREATED:20251029T120751Z
LAST-MODIFIED:20260407T162358Z
UID:2933-1778159700-1778162400@fayette.lib.wv.us
SUMMARY:Danese Christian School
DESCRIPTION:
URL:https://fayette.lib.wv.us/events/danese-christian-school-3/
LOCATION:Danese Christian School\, WV\, United States
END:VEVENT
BEGIN:VEVENT
DTSTART;TZID=America/New_York:20260507T141500
DTEND;TZID=America/New_York:20260507T143000
DTSTAMP:20260423T121240
CREATED:20251029T120834Z
LAST-MODIFIED:20260407T162407Z
UID:2935-1778163300-1778164200@fayette.lib.wv.us
SUMMARY:Chestnut Knob Church
DESCRIPTION:
URL:https://fayette.lib.wv.us/events/chestnut-knob-church-4/
LOCATION:Chestnut Knob Church\, 1745 Chestnut Knob Rd\, Layland\, WV\, 25864\, United States
END:VEVENT
BEGIN:VEVENT
DTSTART;TZID=America/New_York:20260507T163000
DTEND;TZID=America/New_York:20260507T190000
DTSTAMP:20260423T121240
CREATED:20260422T192056Z
LAST-MODIFIED:20260422T192056Z
UID:3262-1778171400-1778180400@fayette.lib.wv.us
SUMMARY:PARENTING PALOOZA
DESCRIPTION:
URL:https://fayette.lib.wv.us/events/parenting-palooza/
END:VEVENT
BEGIN:VEVENT
DTSTART;TZID=America/New_York:20260508T083000
DTEND;TZID=America/New_York:20260508T140000
DTSTAMP:20260423T121240
CREATED:20251029T000347Z
LAST-MODIFIED:20260407T162425Z
UID:2851-1778229000-1778248800@fayette.lib.wv.us
SUMMARY:Valley School
DESCRIPTION:
URL:https://fayette.lib.wv.us/events/valley-school-2/
LOCATION:Valley School\, WV\, United States
END:VEVENT
BEGIN:VEVENT
DTSTART;TZID=America/New_York:20260508T141500
DTEND;TZID=America/New_York:20260508T144500
DTSTAMP:20260423T121240
CREATED:20251029T000420Z
LAST-MODIFIED:20260407T162434Z
UID:2853-1778249700-1778251500@fayette.lib.wv.us
SUMMARY:Boomer Baptist School
DESCRIPTION:
URL:https://fayette.lib.wv.us/events/boomer-baptist-school-2/
LOCATION:Boomer Baptist School\, WV\, United States
END:VEVENT
BEGIN:VEVENT
DTSTART;TZID=America/New_York:20260511T030000
DTEND;TZID=America/New_York:20260511T170000
DTSTAMP:20260423T121240
CREATED:20251029T115552Z
LAST-MODIFIED:20260422T170401Z
UID:2902-1778468400-1778518800@fayette.lib.wv.us
SUMMARY:Meadow Bridge Missionary Baptist Church
DESCRIPTION:
URL:https://fayette.lib.wv.us/events/meadow-bridge-missionary-baptist-church-3/
LOCATION:Meadow Bridge Missionary Baptist Church\, 243 WV-20\, Meadow Bridge\, WV\, 25976\, United States
END:VEVENT
BEGIN:VEVENT
DTSTART;TZID=America/New_York:20260511T103000
DTEND;TZID=America/New_York:20260511T113000
DTSTAMP:20260423T121240
CREATED:20260422T185302Z
LAST-MODIFIED:20260422T185302Z
UID:3250-1778495400-1778499000@fayette.lib.wv.us
SUMMARY:HAWKS NEST
DESCRIPTION:
URL:https://fayette.lib.wv.us/events/hawks-nest/
END:VEVENT
BEGIN:VEVENT
DTSTART;TZID=America/New_York:20260511T114500
DTEND;TZID=America/New_York:20260511T123000
DTSTAMP:20260423T121240
CREATED:20260422T185327Z
LAST-MODIFIED:20260422T185327Z
UID:3252-1778499900-1778502600@fayette.lib.wv.us
SUMMARY:PIGGLY WIGGLY
DESCRIPTION:
URL:https://fayette.lib.wv.us/events/piggly-wiggly/
END:VEVENT
BEGIN:VEVENT
DTSTART;TZID=America/New_York:20260511T130000
DTEND;TZID=America/New_York:20260511T140000
DTSTAMP:20260423T121240
CREATED:20260422T185356Z
LAST-MODIFIED:20260422T185356Z
UID:3254-1778504400-1778508000@fayette.lib.wv.us
SUMMARY:BABCOCK MILL
DESCRIPTION:
URL:https://fayette.lib.wv.us/events/babcock-mill/
END:VEVENT
BEGIN:VEVENT
DTSTART;TZID=America/New_York:20260512T100000
DTEND;TZID=America/New_York:20260512T110000
DTSTAMP:20260423T121240
CREATED:20260422T192157Z
LAST-MODIFIED:20260422T192157Z
UID:3266-1778580000-1778583600@fayette.lib.wv.us
SUMMARY:GLEN FERRIS
DESCRIPTION:
URL:https://fayette.lib.wv.us/events/glen-ferris/
END:VEVENT
BEGIN:VEVENT
DTSTART;TZID=America/New_York:20260512T113000
DTEND;TZID=America/New_York:20260512T123000
DTSTAMP:20260423T121240
CREATED:20260422T193354Z
LAST-MODIFIED:20260422T193354Z
UID:3291-1778585400-1778589000@fayette.lib.wv.us
SUMMARY:BOOMER CATHOLIC CHURCH
DESCRIPTION:
URL:https://fayette.lib.wv.us/events/boomer-catholic-church-2/
END:VEVENT
BEGIN:VEVENT
DTSTART;TZID=America/New_York:20260512T130000
DTEND;TZID=America/New_York:20260512T140000
DTSTAMP:20260423T121240
CREATED:20260422T192235Z
LAST-MODIFIED:20260422T192235Z
UID:3270-1778590800-1778594400@fayette.lib.wv.us
SUMMARY:KIMBERLY CHURCH OF GOD
DESCRIPTION:
URL:https://fayette.lib.wv.us/events/kimberly-church-of-god/
END:VEVENT
BEGIN:VEVENT
DTSTART;TZID=America/New_York:20260512T141500
DTEND;TZID=America/New_York:20260512T151500
DTSTAMP:20260423T121240
CREATED:20260422T192253Z
LAST-MODIFIED:20260422T192253Z
UID:3272-1778595300-1778598900@fayette.lib.wv.us
SUMMARY:ADENA VILLAGE
DESCRIPTION:
URL:https://fayette.lib.wv.us/events/adena-village/
END:VEVENT
BEGIN:VEVENT
DTSTART;TZID=America/New_York:20260512T153000
DTEND;TZID=America/New_York:20260512T163000
DTSTAMP:20260423T121240
CREATED:20260422T192319Z
LAST-MODIFIED:20260422T192319Z
UID:3274-1778599800-1778603400@fayette.lib.wv.us
SUMMARY:KINCAID(NEAR FIRE STATION)
DESCRIPTION:
URL:https://fayette.lib.wv.us/events/kincaidnear-fire-station/
END:VEVENT
BEGIN:VEVENT
DTSTART;TZID=America/New_York:20260513T100000
DTEND;TZID=America/New_York:20260513T103000
DTSTAMP:20260423T121240
CREATED:20260422T184919Z
LAST-MODIFIED:20260422T184919Z
UID:3231-1778666400-1778668200@fayette.lib.wv.us
SUMMARY:STARTING POINTS
DESCRIPTION:
URL:https://fayette.lib.wv.us/events/starting-points/
END:VEVENT
BEGIN:VEVENT
DTSTART;TZID=America/New_York:20260513T104500
DTEND;TZID=America/New_York:20260513T114500
DTSTAMP:20260423T121240
CREATED:20260422T185043Z
LAST-MODIFIED:20260422T185043Z
UID:3239-1778669100-1778672700@fayette.lib.wv.us
SUMMARY:GAULEY BRIDGE FAMILY DOLLAR
DESCRIPTION:
URL:https://fayette.lib.wv.us/events/gauley-bridge-family-dollar/
END:VEVENT
BEGIN:VEVENT
DTSTART;TZID=America/New_York:20260513T121500
DTEND;TZID=America/New_York:20260513T124500
DTSTAMP:20260423T121240
CREATED:20260422T185134Z
LAST-MODIFIED:20260422T185134Z
UID:3242-1778674500-1778676300@fayette.lib.wv.us
SUMMARY:DIXIE BELL CREEK CHURCH
DESCRIPTION:
URL:https://fayette.lib.wv.us/events/dixie-bell-creek-church/
END:VEVENT
BEGIN:VEVENT
DTSTART;TZID=America/New_York:20260513T130000
DTEND;TZID=America/New_York:20260513T133000
DTSTAMP:20260423T121240
CREATED:20260422T185208Z
LAST-MODIFIED:20260422T185208Z
UID:3246-1778677200-1778679000@fayette.lib.wv.us
SUMMARY:JODIE(CHURCH)
DESCRIPTION:
URL:https://fayette.lib.wv.us/events/jodiechurch/
END:VEVENT
BEGIN:VEVENT
DTSTART;TZID=America/New_York:20260513T141500
DTEND;TZID=America/New_York:20260513T144500
DTSTAMP:20260423T121240
CREATED:20251029T000018Z
LAST-MODIFIED:20260422T170817Z
UID:2841-1778681700-1778683500@fayette.lib.wv.us
SUMMARY:New River Ranch
DESCRIPTION:
URL:https://fayette.lib.wv.us/events/new-river-ranch/
LOCATION:New River Ranch\, 351 New River Ranch Rd\, Fayetteville\, WV\, 25840\, United States
END:VEVENT
BEGIN:VEVENT
DTSTART;TZID=America/New_York:20260513T154500
DTEND;TZID=America/New_York:20260513T163000
DTSTAMP:20260423T121240
CREATED:20251028T235414Z
LAST-MODIFIED:20260422T170752Z
UID:2823-1778687100-1778689800@fayette.lib.wv.us
SUMMARY:Pax
DESCRIPTION:
URL:https://fayette.lib.wv.us/events/pax-2/
LOCATION:Pax\, 251 Main St\, Pax\, WV\, 25904\, United States
END:VEVENT
BEGIN:VEVENT
DTSTART;TZID=America/New_York:20260514T100000
DTEND;TZID=America/New_York:20260514T110000
DTSTAMP:20260423T121240
CREATED:20260422T185001Z
LAST-MODIFIED:20260422T185001Z
UID:3235-1778752800-1778756400@fayette.lib.wv.us
SUMMARY:NALLEN(BY POST OFFICE)
DESCRIPTION:
URL:https://fayette.lib.wv.us/events/nallenby-post-office/
END:VEVENT
BEGIN:VEVENT
DTSTART;TZID=America/New_York:20260514T140000
DTEND;TZID=America/New_York:20260514T150000
DTSTAMP:20260423T121240
CREATED:20251029T000118Z
LAST-MODIFIED:20260422T171003Z
UID:2844-1778767200-1778770800@fayette.lib.wv.us
SUMMARY:Danese Christian School
DESCRIPTION:
URL:https://fayette.lib.wv.us/events/danese-christian-school-2/
LOCATION:Danese Christian School\, WV\, United States
END:VEVENT
BEGIN:VEVENT
DTSTART;TZID=America/New_York:20260514T151500
DTEND;TZID=America/New_York:20260514T161500
DTSTAMP:20260423T121240
CREATED:20251029T000152Z
LAST-MODIFIED:20260422T170934Z
UID:2846-1778771700-1778775300@fayette.lib.wv.us
SUMMARY:Chestnut Knob Church
DESCRIPTION:
URL:https://fayette.lib.wv.us/events/chestnut-knob-church-3/
LOCATION:Chestnut Knob Church\, 1745 Chestnut Knob Rd\, Layland\, WV\, 25864\, United States
END:VEVENT
BEGIN:VEVENT
DTSTART;TZID=America/New_York:20260515T093000
DTEND;TZID=America/New_York:20260515T103000
DTSTAMP:20260423T121240
CREATED:20251028T232300Z
LAST-MODIFIED:20260422T170643Z
UID:2808-1778837400-1778841000@fayette.lib.wv.us
SUMMARY:Wal-Mart
DESCRIPTION:
URL:https://fayette.lib.wv.us/events/wal-mart/
LOCATION:Wal-Mart\, 204 Town Center Road\, Fayetteville\, WV\, 25840\, United States
END:VEVENT
BEGIN:VEVENT
DTSTART;TZID=America/New_York:20260515T104500
DTEND;TZID=America/New_York:20260515T111500
DTSTAMP:20260423T121240
CREATED:20260407T162629Z
LAST-MODIFIED:20260422T170715Z
UID:3212-1778841900-1778843700@fayette.lib.wv.us
SUMMARY:Oak Hill Senior Center
DESCRIPTION:
URL:https://fayette.lib.wv.us/events/oak-hill-senior-center/
END:VEVENT
BEGIN:VEVENT
DTSTART;TZID=America/New_York:20260515T120000
DTEND;TZID=America/New_York:20260515T130000
DTSTAMP:20260423T121240
CREATED:20251028T235923Z
LAST-MODIFIED:20260422T170852Z
UID:2838-1778846400-1778850000@fayette.lib.wv.us
SUMMARY:Pine Knoll
DESCRIPTION:
URL:https://fayette.lib.wv.us/events/pine-knoll/
LOCATION:Pine Knoll\, 99 Piniknolks Dr.\, Oak Hill\, WV\, 25901\, United States
END:VEVENT
BEGIN:VEVENT
DTSTART;TZID=America/New_York:20260515T130500
DTEND;TZID=America/New_York:20260515T133000
DTSTAMP:20260423T121240
CREATED:20260422T194120Z
LAST-MODIFIED:20260422T194120Z
UID:3295-1778850300-1778851800@fayette.lib.wv.us
SUMMARY:A PLACE TO GROW
DESCRIPTION:
URL:https://fayette.lib.wv.us/events/a-place-to-grow/
END:VEVENT
BEGIN:VEVENT
DTSTART;TZID=America/New_York:20260515T133500
DTEND;TZID=America/New_York:20260515T141500
DTSTAMP:20260423T121240
CREATED:20251029T122639Z
LAST-MODIFIED:20260422T194215Z
UID:2953-1778852100-1778854500@fayette.lib.wv.us
SUMMARY:New River Clinic
DESCRIPTION:
URL:https://fayette.lib.wv.us/events/new-river-clinic-2/
LOCATION:New River Clinic
END:VEVENT
END:VCALENDAR