BEGIN:VCALENDAR
VERSION:2.0
PRODID:-// - ECPv6.15.20//NONSGML v1.0//EN
CALSCALE:GREGORIAN
METHOD:PUBLISH
X-ORIGINAL-URL:https://fayette.lib.wv.us
X-WR-CALDESC:Events for 
REFRESH-INTERVAL;VALUE=DURATION:PT1H
X-Robots-Tag:noindex
X-PUBLISHED-TTL:PT1H
BEGIN:VTIMEZONE
TZID:America/New_York
BEGIN:DAYLIGHT
TZOFFSETFROM:-0500
TZOFFSETTO:-0400
TZNAME:EDT
DTSTART:20250309T070000
END:DAYLIGHT
BEGIN:STANDARD
TZOFFSETFROM:-0400
TZOFFSETTO:-0500
TZNAME:EST
DTSTART:20251102T060000
END:STANDARD
BEGIN:DAYLIGHT
TZOFFSETFROM:-0500
TZOFFSETTO:-0400
TZNAME:EDT
DTSTART:20260308T070000
END:DAYLIGHT
BEGIN:STANDARD
TZOFFSETFROM:-0400
TZOFFSETTO:-0500
TZNAME:EST
DTSTART:20261101T060000
END:STANDARD
BEGIN:DAYLIGHT
TZOFFSETFROM:-0500
TZOFFSETTO:-0400
TZNAME:EDT
DTSTART:20270314T070000
END:DAYLIGHT
BEGIN:STANDARD
TZOFFSETFROM:-0400
TZOFFSETTO:-0500
TZNAME:EST
DTSTART:20271107T060000
END:STANDARD
END:VTIMEZONE
BEGIN:VEVENT
DTSTART;TZID=America/New_York:20260514T151500
DTEND;TZID=America/New_York:20260514T161500
DTSTAMP:20260423T151456
CREATED:20251029T000152Z
LAST-MODIFIED:20260422T170934Z
UID:2846-1778771700-1778775300@fayette.lib.wv.us
SUMMARY:Chestnut Knob Church
DESCRIPTION:
URL:https://fayette.lib.wv.us/events/chestnut-knob-church-3/
LOCATION:Chestnut Knob Church\, 1745 Chestnut Knob Rd\, Layland\, WV\, 25864\, United States
END:VEVENT
BEGIN:VEVENT
DTSTART;TZID=America/New_York:20260515T093000
DTEND;TZID=America/New_York:20260515T103000
DTSTAMP:20260423T151456
CREATED:20251028T232300Z
LAST-MODIFIED:20260422T170643Z
UID:2808-1778837400-1778841000@fayette.lib.wv.us
SUMMARY:Wal-Mart
DESCRIPTION:
URL:https://fayette.lib.wv.us/events/wal-mart/
LOCATION:Wal-Mart\, 204 Town Center Road\, Fayetteville\, WV\, 25840\, United States
END:VEVENT
BEGIN:VEVENT
DTSTART;TZID=America/New_York:20260515T104500
DTEND;TZID=America/New_York:20260515T111500
DTSTAMP:20260423T151456
CREATED:20260407T162629Z
LAST-MODIFIED:20260422T170715Z
UID:3212-1778841900-1778843700@fayette.lib.wv.us
SUMMARY:Oak Hill Senior Center
DESCRIPTION:
URL:https://fayette.lib.wv.us/events/oak-hill-senior-center/
END:VEVENT
BEGIN:VEVENT
DTSTART;TZID=America/New_York:20260515T120000
DTEND;TZID=America/New_York:20260515T130000
DTSTAMP:20260423T151456
CREATED:20251028T235923Z
LAST-MODIFIED:20260422T170852Z
UID:2838-1778846400-1778850000@fayette.lib.wv.us
SUMMARY:Pine Knoll
DESCRIPTION:
URL:https://fayette.lib.wv.us/events/pine-knoll/
LOCATION:Pine Knoll\, 99 Piniknolks Dr.\, Oak Hill\, WV\, 25901\, United States
END:VEVENT
BEGIN:VEVENT
DTSTART;TZID=America/New_York:20260515T130500
DTEND;TZID=America/New_York:20260515T133000
DTSTAMP:20260423T151456
CREATED:20260422T194120Z
LAST-MODIFIED:20260422T194120Z
UID:3295-1778850300-1778851800@fayette.lib.wv.us
SUMMARY:A PLACE TO GROW
DESCRIPTION:
URL:https://fayette.lib.wv.us/events/a-place-to-grow/
END:VEVENT
BEGIN:VEVENT
DTSTART;TZID=America/New_York:20260515T133500
DTEND;TZID=America/New_York:20260515T141500
DTSTAMP:20260423T151456
CREATED:20251029T122639Z
LAST-MODIFIED:20260422T194215Z
UID:2953-1778852100-1778854500@fayette.lib.wv.us
SUMMARY:New River Clinic
DESCRIPTION:
URL:https://fayette.lib.wv.us/events/new-river-clinic-2/
LOCATION:New River Clinic
END:VEVENT
BEGIN:VEVENT
DTSTART;TZID=America/New_York:20260515T143000
DTEND;TZID=America/New_York:20260515T150000
DTSTAMP:20260423T151456
CREATED:20251029T114132Z
LAST-MODIFIED:20260422T170543Z
UID:2864-1778855400-1778857200@fayette.lib.wv.us
SUMMARY:Fayette Hills
DESCRIPTION:
URL:https://fayette.lib.wv.us/events/fayette-hills-3/
LOCATION:Fayette Hills\, Laurel Pl 71\, Fayetteville\, WV\, 25840\, United States
END:VEVENT
BEGIN:VEVENT
DTSTART;TZID=America/New_York:20260515T151500
DTEND;TZID=America/New_York:20260515T160000
DTSTAMP:20260423T151456
CREATED:20251021T084729Z
LAST-MODIFIED:20260422T170506Z
UID:2533-1778858100-1778860800@fayette.lib.wv.us
SUMMARY:Oak Hill Place
DESCRIPTION:
URL:https://fayette.lib.wv.us/events/oak-hill-place-2/
LOCATION:Oak Hill Place\, 438 23rd St\, Oak Hill\, WV\, 25901\, United States
END:VEVENT
BEGIN:VEVENT
DTSTART;TZID=America/New_York:20260515T161500
DTEND;TZID=America/New_York:20260515T164500
DTSTAMP:20260423T151456
CREATED:20260422T193556Z
LAST-MODIFIED:20260422T193556Z
UID:3293-1778861700-1778863500@fayette.lib.wv.us
SUMMARY:FAYETTE MANOR
DESCRIPTION:
URL:https://fayette.lib.wv.us/events/fayette-manor-2/
END:VEVENT
BEGIN:VEVENT
DTSTART;TZID=America/New_York:20260518T103000
DTEND;TZID=America/New_York:20260518T113000
DTSTAMP:20260423T151456
CREATED:20260422T195555Z
LAST-MODIFIED:20260422T195555Z
UID:3299-1779100200-1779103800@fayette.lib.wv.us
SUMMARY:HAWKS NEST
DESCRIPTION:
URL:https://fayette.lib.wv.us/events/hawks-nest-2/
END:VEVENT
BEGIN:VEVENT
DTSTART;TZID=America/New_York:20260518T114500
DTEND;TZID=America/New_York:20260518T123000
DTSTAMP:20260423T151456
CREATED:20251028T235340Z
LAST-MODIFIED:20260422T185627Z
UID:2819-1779104700-1779107400@fayette.lib.wv.us
SUMMARY:Piggly Wiggly
DESCRIPTION:
URL:https://fayette.lib.wv.us/events/piggly-wiggly-3/
LOCATION:Piggly Wiggly\, WV\, United States
END:VEVENT
BEGIN:VEVENT
DTSTART;TZID=America/New_York:20260518T130000
DTEND;TZID=America/New_York:20260518T140000
DTSTAMP:20260423T151456
CREATED:20260422T195620Z
LAST-MODIFIED:20260422T195620Z
UID:3301-1779109200-1779112800@fayette.lib.wv.us
SUMMARY:BABCOCK MILL
DESCRIPTION:
URL:https://fayette.lib.wv.us/events/babcock-mill-2/
END:VEVENT
BEGIN:VEVENT
DTSTART;TZID=America/New_York:20260518T150000
DTEND;TZID=America/New_York:20260518T170000
DTSTAMP:20260423T151456
CREATED:20260422T195637Z
LAST-MODIFIED:20260422T195637Z
UID:3303-1779116400-1779123600@fayette.lib.wv.us
SUMMARY:MEADOW BRIDGE BAPTIST CHURCH
DESCRIPTION:
URL:https://fayette.lib.wv.us/events/meadow-bridge-baptist-church/
END:VEVENT
BEGIN:VEVENT
DTSTART;TZID=America/New_York:20260519T100000
DTEND;TZID=America/New_York:20260519T110000
DTSTAMP:20260423T151456
CREATED:20260422T201056Z
LAST-MODIFIED:20260422T201056Z
UID:3305-1779184800-1779188400@fayette.lib.wv.us
SUMMARY:GLEN FERRIS
DESCRIPTION:
URL:https://fayette.lib.wv.us/events/glen-ferris-2/
END:VEVENT
BEGIN:VEVENT
DTSTART;TZID=America/New_York:20260519T113000
DTEND;TZID=America/New_York:20260519T123000
DTSTAMP:20260423T151456
CREATED:20260422T201126Z
LAST-MODIFIED:20260422T201126Z
UID:3307-1779190200-1779193800@fayette.lib.wv.us
SUMMARY:BOOMER CATHOLIC CHURCH
DESCRIPTION:
URL:https://fayette.lib.wv.us/events/boomer-catholic-church-3/
END:VEVENT
BEGIN:VEVENT
DTSTART;TZID=America/New_York:20260519T130000
DTEND;TZID=America/New_York:20260519T140000
DTSTAMP:20260423T151456
CREATED:20260422T201143Z
LAST-MODIFIED:20260422T201143Z
UID:3309-1779195600-1779199200@fayette.lib.wv.us
SUMMARY:KIMBERLY CHURCH OF GOD
DESCRIPTION:
URL:https://fayette.lib.wv.us/events/kimberly-church-of-god-2/
END:VEVENT
BEGIN:VEVENT
DTSTART;TZID=America/New_York:20260519T141500
DTEND;TZID=America/New_York:20260519T151500
DTSTAMP:20260423T151456
CREATED:20260422T201203Z
LAST-MODIFIED:20260422T201203Z
UID:3311-1779200100-1779203700@fayette.lib.wv.us
SUMMARY:ADENA VILLAGE
DESCRIPTION:
URL:https://fayette.lib.wv.us/events/adena-village-2/
END:VEVENT
BEGIN:VEVENT
DTSTART;TZID=America/New_York:20260519T153000
DTEND;TZID=America/New_York:20260519T163000
DTSTAMP:20260423T151456
CREATED:20260422T201224Z
LAST-MODIFIED:20260422T201224Z
UID:3313-1779204600-1779208200@fayette.lib.wv.us
SUMMARY:KINCAID(NEAR FIRE STATION)
DESCRIPTION:
URL:https://fayette.lib.wv.us/events/kincaidnear-fire-station-2/
END:VEVENT
BEGIN:VEVENT
DTSTART;TZID=America/New_York:20260520T100000
DTEND;TZID=America/New_York:20260520T103000
DTSTAMP:20260423T151456
CREATED:20260422T201242Z
LAST-MODIFIED:20260422T201242Z
UID:3315-1779271200-1779273000@fayette.lib.wv.us
SUMMARY:STARTING POINTS
DESCRIPTION:
URL:https://fayette.lib.wv.us/events/starting-points-2/
END:VEVENT
BEGIN:VEVENT
DTSTART;TZID=America/New_York:20260520T104500
DTEND;TZID=America/New_York:20260520T114500
DTSTAMP:20260423T151456
CREATED:20260422T201301Z
LAST-MODIFIED:20260422T201301Z
UID:3317-1779273900-1779277500@fayette.lib.wv.us
SUMMARY:GAULEY BRIDGE FAMILY DOLLAR
DESCRIPTION:
URL:https://fayette.lib.wv.us/events/gauley-bridge-family-dollar-2/
END:VEVENT
BEGIN:VEVENT
DTSTART;TZID=America/New_York:20260520T121500
DTEND;TZID=America/New_York:20260520T124500
DTSTAMP:20260423T151456
CREATED:20260422T201322Z
LAST-MODIFIED:20260422T201322Z
UID:3319-1779279300-1779281100@fayette.lib.wv.us
SUMMARY:DIXIE BELL CREEK CHURCH
DESCRIPTION:
URL:https://fayette.lib.wv.us/events/dixie-bell-creek-church-2/
END:VEVENT
BEGIN:VEVENT
DTSTART;TZID=America/New_York:20260520T130000
DTEND;TZID=America/New_York:20260520T133000
DTSTAMP:20260423T151456
CREATED:20260422T201342Z
LAST-MODIFIED:20260422T201342Z
UID:3321-1779282000-1779283800@fayette.lib.wv.us
SUMMARY:JODIE(CHURCH)
DESCRIPTION:
URL:https://fayette.lib.wv.us/events/jodiechurch-2/
END:VEVENT
BEGIN:VEVENT
DTSTART;TZID=America/New_York:20260520T141500
DTEND;TZID=America/New_York:20260520T144500
DTSTAMP:20260423T151456
CREATED:20260422T201400Z
LAST-MODIFIED:20260422T201400Z
UID:3323-1779286500-1779288300@fayette.lib.wv.us
SUMMARY:RANCH
DESCRIPTION:
URL:https://fayette.lib.wv.us/events/ranch/
END:VEVENT
BEGIN:VEVENT
DTSTART;TZID=America/New_York:20260520T154500
DTEND;TZID=America/New_York:20260520T163000
DTSTAMP:20260423T151456
CREATED:20260422T201417Z
LAST-MODIFIED:20260422T201417Z
UID:3325-1779291900-1779294600@fayette.lib.wv.us
SUMMARY:PAX
DESCRIPTION:
URL:https://fayette.lib.wv.us/events/pax/
END:VEVENT
BEGIN:VEVENT
DTSTART;TZID=America/New_York:20260521T100000
DTEND;TZID=America/New_York:20260521T110000
DTSTAMP:20260423T151456
CREATED:20260422T201445Z
LAST-MODIFIED:20260422T201445Z
UID:3327-1779357600-1779361200@fayette.lib.wv.us
SUMMARY:NALLEN(BY POST OFFICE)
DESCRIPTION:
URL:https://fayette.lib.wv.us/events/nallenby-post-office-2/
END:VEVENT
BEGIN:VEVENT
DTSTART;TZID=America/New_York:20260521T113000
DTEND;TZID=America/New_York:20260521T133000
DTSTAMP:20260423T151456
CREATED:20260422T201503Z
LAST-MODIFIED:20260422T201503Z
UID:3329-1779363000-1779370200@fayette.lib.wv.us
SUMMARY:MEADOW BRIDGE BAPTIST CHURCH
DESCRIPTION:
URL:https://fayette.lib.wv.us/events/meadow-bridge-baptist-church-2/
END:VEVENT
BEGIN:VEVENT
DTSTART;TZID=America/New_York:20260521T140000
DTEND;TZID=America/New_York:20260521T150000
DTSTAMP:20260423T151456
CREATED:20260422T202348Z
LAST-MODIFIED:20260422T202348Z
UID:3335-1779372000-1779375600@fayette.lib.wv.us
SUMMARY:DANESE CHRISTIAN SCHOOL
DESCRIPTION:
URL:https://fayette.lib.wv.us/events/danese-christian-school-4/
END:VEVENT
BEGIN:VEVENT
DTSTART;TZID=America/New_York:20260521T151500
DTEND;TZID=America/New_York:20260521T161500
DTSTAMP:20260423T151456
CREATED:20260422T201534Z
LAST-MODIFIED:20260422T201534Z
UID:3331-1779376500-1779380100@fayette.lib.wv.us
SUMMARY:CHESTNUT KNOB CHURCH
DESCRIPTION:
URL:https://fayette.lib.wv.us/events/chestnut-knob-church-2/
END:VEVENT
BEGIN:VEVENT
DTSTART;TZID=America/New_York:20260522T093000
DTEND;TZID=America/New_York:20260522T103000
DTSTAMP:20260423T151456
CREATED:20251029T114739Z
LAST-MODIFIED:20260422T171224Z
UID:2875-1779442200-1779445800@fayette.lib.wv.us
SUMMARY:Wal-Mart
DESCRIPTION:
URL:https://fayette.lib.wv.us/events/wal-mart-2/
LOCATION:Wal-Mart\, 204 Town Center Road\, Fayetteville\, WV\, 25840\, United States
END:VEVENT
BEGIN:VEVENT
DTSTART;TZID=America/New_York:20260522T104500
DTEND;TZID=America/New_York:20260522T111500
DTSTAMP:20260423T151456
CREATED:20260422T202533Z
LAST-MODIFIED:20260422T202533Z
UID:3340-1779446700-1779448500@fayette.lib.wv.us
SUMMARY:FAY. CO SENIOR PROGRAM
DESCRIPTION:
URL:https://fayette.lib.wv.us/events/fay-co-senior-program/
END:VEVENT
END:VCALENDAR