BEGIN:VCALENDAR
VERSION:2.0
PRODID:-// - ECPv6.15.20//NONSGML v1.0//EN
CALSCALE:GREGORIAN
METHOD:PUBLISH
X-ORIGINAL-URL:https://fayette.lib.wv.us
X-WR-CALDESC:Events for 
REFRESH-INTERVAL;VALUE=DURATION:PT1H
X-Robots-Tag:noindex
X-PUBLISHED-TTL:PT1H
BEGIN:VTIMEZONE
TZID:America/New_York
BEGIN:DAYLIGHT
TZOFFSETFROM:-0500
TZOFFSETTO:-0400
TZNAME:EDT
DTSTART:20250309T070000
END:DAYLIGHT
BEGIN:STANDARD
TZOFFSETFROM:-0400
TZOFFSETTO:-0500
TZNAME:EST
DTSTART:20251102T060000
END:STANDARD
BEGIN:DAYLIGHT
TZOFFSETFROM:-0500
TZOFFSETTO:-0400
TZNAME:EDT
DTSTART:20260308T070000
END:DAYLIGHT
BEGIN:STANDARD
TZOFFSETFROM:-0400
TZOFFSETTO:-0500
TZNAME:EST
DTSTART:20261101T060000
END:STANDARD
BEGIN:DAYLIGHT
TZOFFSETFROM:-0500
TZOFFSETTO:-0400
TZNAME:EDT
DTSTART:20270314T070000
END:DAYLIGHT
BEGIN:STANDARD
TZOFFSETFROM:-0400
TZOFFSETTO:-0500
TZNAME:EST
DTSTART:20271107T060000
END:STANDARD
END:VTIMEZONE
BEGIN:VEVENT
DTSTART;TZID=America/New_York:20260521T100000
DTEND;TZID=America/New_York:20260521T110000
DTSTAMP:20260423T174113
CREATED:20260422T201445Z
LAST-MODIFIED:20260422T201445Z
UID:3327-1779357600-1779361200@fayette.lib.wv.us
SUMMARY:NALLEN(BY POST OFFICE)
DESCRIPTION:
URL:https://fayette.lib.wv.us/events/nallenby-post-office-2/
LOCATION:WV
END:VEVENT
BEGIN:VEVENT
DTSTART;TZID=America/New_York:20260521T113000
DTEND;TZID=America/New_York:20260521T133000
DTSTAMP:20260423T174113
CREATED:20260422T201503Z
LAST-MODIFIED:20260422T201503Z
UID:3329-1779363000-1779370200@fayette.lib.wv.us
SUMMARY:MEADOW BRIDGE BAPTIST CHURCH
DESCRIPTION:
URL:https://fayette.lib.wv.us/events/meadow-bridge-baptist-church-2/
LOCATION:WV
END:VEVENT
BEGIN:VEVENT
DTSTART;TZID=America/New_York:20260521T140000
DTEND;TZID=America/New_York:20260521T150000
DTSTAMP:20260423T174113
CREATED:20260422T202348Z
LAST-MODIFIED:20260422T202348Z
UID:3335-1779372000-1779375600@fayette.lib.wv.us
SUMMARY:DANESE CHRISTIAN SCHOOL
DESCRIPTION:
URL:https://fayette.lib.wv.us/events/danese-christian-school-4/
LOCATION:WV
END:VEVENT
BEGIN:VEVENT
DTSTART;TZID=America/New_York:20260521T151500
DTEND;TZID=America/New_York:20260521T161500
DTSTAMP:20260423T174113
CREATED:20260422T201534Z
LAST-MODIFIED:20260422T201534Z
UID:3331-1779376500-1779380100@fayette.lib.wv.us
SUMMARY:CHESTNUT KNOB CHURCH
DESCRIPTION:
URL:https://fayette.lib.wv.us/events/chestnut-knob-church-2/
LOCATION:WV
END:VEVENT
BEGIN:VEVENT
DTSTART;TZID=America/New_York:20260522T093000
DTEND;TZID=America/New_York:20260522T103000
DTSTAMP:20260423T174113
CREATED:20251029T114739Z
LAST-MODIFIED:20260422T171224Z
UID:2875-1779442200-1779445800@fayette.lib.wv.us
SUMMARY:Wal-Mart
DESCRIPTION:
URL:https://fayette.lib.wv.us/events/wal-mart-2/
LOCATION:Wal-Mart\, 204 Town Center Road\, Fayetteville\, WV\, 25840\, United States
END:VEVENT
BEGIN:VEVENT
DTSTART;TZID=America/New_York:20260522T104500
DTEND;TZID=America/New_York:20260522T111500
DTSTAMP:20260423T174113
CREATED:20260422T202533Z
LAST-MODIFIED:20260422T202533Z
UID:3340-1779446700-1779448500@fayette.lib.wv.us
SUMMARY:FAY. CO SENIOR PROGRAM
DESCRIPTION:
URL:https://fayette.lib.wv.us/events/fay-co-senior-program/
LOCATION:WV
END:VEVENT
BEGIN:VEVENT
DTSTART;TZID=America/New_York:20260522T120000
DTEND;TZID=America/New_York:20260522T130000
DTSTAMP:20260423T174113
CREATED:20260422T202552Z
LAST-MODIFIED:20260422T202552Z
UID:3342-1779451200-1779454800@fayette.lib.wv.us
SUMMARY:PINE KNOLL
DESCRIPTION:
URL:https://fayette.lib.wv.us/events/pine-knoll-2/
LOCATION:WV
END:VEVENT
BEGIN:VEVENT
DTSTART;TZID=America/New_York:20260522T130500
DTEND;TZID=America/New_York:20260522T133000
DTSTAMP:20260423T174113
CREATED:20260422T202506Z
LAST-MODIFIED:20260422T202506Z
UID:3338-1779455100-1779456600@fayette.lib.wv.us
SUMMARY:A PLACE TO GROW
DESCRIPTION:
URL:https://fayette.lib.wv.us/events/a-place-to-grow-2/
LOCATION:WV
END:VEVENT
BEGIN:VEVENT
DTSTART;TZID=America/New_York:20260522T133500
DTEND;TZID=America/New_York:20260522T141500
DTSTAMP:20260423T174113
CREATED:20251029T114639Z
LAST-MODIFIED:20260422T194142Z
UID:2870-1779456900-1779459300@fayette.lib.wv.us
SUMMARY:New River Clinic
DESCRIPTION:
URL:https://fayette.lib.wv.us/events/new-river-clinic/
LOCATION:New River Clinic
END:VEVENT
BEGIN:VEVENT
DTSTART;TZID=America/New_York:20260522T143000
DTEND;TZID=America/New_York:20260522T150000
DTSTAMP:20260423T174113
CREATED:20251003T212320Z
LAST-MODIFIED:20260422T171137Z
UID:2430-1779460200-1779462000@fayette.lib.wv.us
SUMMARY:Fayette Hills
DESCRIPTION:
URL:https://fayette.lib.wv.us/events/fayette-hills/
LOCATION:Fayette Hills\, Laurel Pl 71\, Fayetteville\, WV\, 25840\, United States
END:VEVENT
BEGIN:VEVENT
DTSTART;TZID=America/New_York:20260522T151500
DTEND;TZID=America/New_York:20260522T160000
DTSTAMP:20260423T174113
CREATED:20251029T122304Z
LAST-MODIFIED:20260422T171115Z
UID:2945-1779462900-1779465600@fayette.lib.wv.us
SUMMARY:Oak Hill Place
DESCRIPTION:
URL:https://fayette.lib.wv.us/events/oak-hill-place-3/
LOCATION:Oak Hill Place\, 438 23rd St\, Oak Hill\, WV\, 25901\, United States
END:VEVENT
BEGIN:VEVENT
DTSTART;TZID=America/New_York:20260522T161500
DTEND;TZID=America/New_York:20260522T164500
DTSTAMP:20260423T174113
CREATED:20251029T122231Z
LAST-MODIFIED:20260422T171051Z
UID:2943-1779466500-1779468300@fayette.lib.wv.us
SUMMARY:Fayette Manor
DESCRIPTION:
URL:https://fayette.lib.wv.us/events/fayette-manor-4/
LOCATION:Fayette Manor\, 1300 Virginia St\, Oak Hill\, WV\, 25901\, United States
END:VEVENT
BEGIN:VEVENT
DTSTART;TZID=America/New_York:20260525T090000
DTEND;TZID=America/New_York:20260525T170000
DTSTAMP:20260423T174113
CREATED:20260422T195534Z
LAST-MODIFIED:20260422T195534Z
UID:3297-1779699600-1779728400@fayette.lib.wv.us
SUMMARY:CLOSED MEMORIAL DAY
DESCRIPTION:
URL:https://fayette.lib.wv.us/events/closed-memorial-day/
LOCATION:WV
END:VEVENT
BEGIN:VEVENT
DTSTART;TZID=America/New_York:20260526T100000
DTEND;TZID=America/New_York:20260526T110000
DTSTAMP:20260423T174113
CREATED:20260422T202627Z
LAST-MODIFIED:20260422T202627Z
UID:3344-1779789600-1779793200@fayette.lib.wv.us
SUMMARY:GLEN FERRIS
DESCRIPTION:
URL:https://fayette.lib.wv.us/events/glen-ferris-3/
LOCATION:WV
END:VEVENT
BEGIN:VEVENT
DTSTART;TZID=America/New_York:20260526T113000
DTEND;TZID=America/New_York:20260526T123000
DTSTAMP:20260423T174113
CREATED:20260422T202645Z
LAST-MODIFIED:20260422T202645Z
UID:3346-1779795000-1779798600@fayette.lib.wv.us
SUMMARY:BOOMER CATHOLIC CHURCH
DESCRIPTION:
URL:https://fayette.lib.wv.us/events/boomer-catholic-church-4/
LOCATION:WV
END:VEVENT
BEGIN:VEVENT
DTSTART;TZID=America/New_York:20260526T130000
DTEND;TZID=America/New_York:20260526T140000
DTSTAMP:20260423T174113
CREATED:20260422T202702Z
LAST-MODIFIED:20260422T202702Z
UID:3348-1779800400-1779804000@fayette.lib.wv.us
SUMMARY:KIMBERLY CHURCH OF GOD
DESCRIPTION:
URL:https://fayette.lib.wv.us/events/kimberly-church-of-god-3/
LOCATION:WV
END:VEVENT
BEGIN:VEVENT
DTSTART;TZID=America/New_York:20260526T141500
DTEND;TZID=America/New_York:20260526T151500
DTSTAMP:20260423T174113
CREATED:20260422T202718Z
LAST-MODIFIED:20260422T202718Z
UID:3350-1779804900-1779808500@fayette.lib.wv.us
SUMMARY:ADENA VILLAGE
DESCRIPTION:
URL:https://fayette.lib.wv.us/events/adena-village-3/
LOCATION:WV
END:VEVENT
BEGIN:VEVENT
DTSTART;TZID=America/New_York:20260526T153000
DTEND;TZID=America/New_York:20260526T163000
DTSTAMP:20260423T174113
CREATED:20260422T202825Z
LAST-MODIFIED:20260422T202825Z
UID:3352-1779809400-1779813000@fayette.lib.wv.us
SUMMARY:KINCAID(BY FIRE STATION)
DESCRIPTION:
URL:https://fayette.lib.wv.us/events/kincaidby-fire-station/
LOCATION:WV
END:VEVENT
BEGIN:VEVENT
DTSTART;TZID=America/New_York:20260527T100000
DTEND;TZID=America/New_York:20260527T103000
DTSTAMP:20260423T174113
CREATED:20260422T202848Z
LAST-MODIFIED:20260422T202848Z
UID:3354-1779876000-1779877800@fayette.lib.wv.us
SUMMARY:STARTING POINTS
DESCRIPTION:
URL:https://fayette.lib.wv.us/events/starting-points-3/
LOCATION:WV
END:VEVENT
BEGIN:VEVENT
DTSTART;TZID=America/New_York:20260527T104500
DTEND;TZID=America/New_York:20260527T114500
DTSTAMP:20260423T174113
CREATED:20260422T202910Z
LAST-MODIFIED:20260422T202910Z
UID:3356-1779878700-1779882300@fayette.lib.wv.us
SUMMARY:GAULEY BRIDGE FAMILY DOLLAR
DESCRIPTION:
URL:https://fayette.lib.wv.us/events/gauley-bridge-family-dollar-3/
LOCATION:WV
END:VEVENT
BEGIN:VEVENT
DTSTART;TZID=America/New_York:20260527T121500
DTEND;TZID=America/New_York:20260527T124500
DTSTAMP:20260423T174113
CREATED:20260422T202939Z
LAST-MODIFIED:20260422T202939Z
UID:3358-1779884100-1779885900@fayette.lib.wv.us
SUMMARY:DIXIE BELL CREEK CHURCH
DESCRIPTION:
URL:https://fayette.lib.wv.us/events/dixie-bell-creek-church-3/
LOCATION:WV
END:VEVENT
BEGIN:VEVENT
DTSTART;TZID=America/New_York:20260527T130000
DTEND;TZID=America/New_York:20260527T133000
DTSTAMP:20260423T174113
CREATED:20260422T203004Z
LAST-MODIFIED:20260422T203004Z
UID:3360-1779886800-1779888600@fayette.lib.wv.us
SUMMARY:JODIE(CHURCH)
DESCRIPTION:
URL:https://fayette.lib.wv.us/events/jodiechurch-3/
LOCATION:WV
END:VEVENT
BEGIN:VEVENT
DTSTART;TZID=America/New_York:20260527T141500
DTEND;TZID=America/New_York:20260527T144500
DTSTAMP:20260423T174113
CREATED:20260422T203018Z
LAST-MODIFIED:20260422T203018Z
UID:3362-1779891300-1779893100@fayette.lib.wv.us
SUMMARY:RANCH
DESCRIPTION:
URL:https://fayette.lib.wv.us/events/ranch-2/
LOCATION:WV
END:VEVENT
BEGIN:VEVENT
DTSTART;TZID=America/New_York:20260527T154500
DTEND;TZID=America/New_York:20260527T163000
DTSTAMP:20260423T174113
CREATED:20260422T203035Z
LAST-MODIFIED:20260422T203035Z
UID:3364-1779896700-1779899400@fayette.lib.wv.us
SUMMARY:PAX
DESCRIPTION:
URL:https://fayette.lib.wv.us/events/pax-4/
LOCATION:WV
END:VEVENT
BEGIN:VEVENT
DTSTART;TZID=America/New_York:20260528T100000
DTEND;TZID=America/New_York:20260528T110000
DTSTAMP:20260423T174113
CREATED:20260422T203054Z
LAST-MODIFIED:20260422T203054Z
UID:3366-1779962400-1779966000@fayette.lib.wv.us
SUMMARY:NALLEN(BY POST OFFICE)
DESCRIPTION:
URL:https://fayette.lib.wv.us/events/nallenby-post-office-3/
LOCATION:WV
END:VEVENT
BEGIN:VEVENT
DTSTART;TZID=America/New_York:20260528T113000
DTEND;TZID=America/New_York:20260528T133000
DTSTAMP:20260423T174113
CREATED:20260422T203113Z
LAST-MODIFIED:20260422T203113Z
UID:3368-1779967800-1779975000@fayette.lib.wv.us
SUMMARY:MEADOW BRIDGE BAPTIST CHURCH
DESCRIPTION:
URL:https://fayette.lib.wv.us/events/meadow-bridge-baptist-church-3/
LOCATION:WV
END:VEVENT
BEGIN:VEVENT
DTSTART;TZID=America/New_York:20260528T140000
DTEND;TZID=America/New_York:20260528T150000
DTSTAMP:20260423T174113
CREATED:20260422T202312Z
LAST-MODIFIED:20260422T202401Z
UID:3333-1779976800-1779980400@fayette.lib.wv.us
SUMMARY:DANESE CHRISTIAN SCHOOL
DESCRIPTION:
URL:https://fayette.lib.wv.us/events/danese-christian-church/
LOCATION:WV
END:VEVENT
BEGIN:VEVENT
DTSTART;TZID=America/New_York:20260528T151500
DTEND;TZID=America/New_York:20260528T161500
DTSTAMP:20260423T174113
CREATED:20260422T203138Z
LAST-MODIFIED:20260422T203138Z
UID:3370-1779981300-1779984900@fayette.lib.wv.us
SUMMARY:CHESTNUT KNOB CHURCH
DESCRIPTION:
URL:https://fayette.lib.wv.us/events/chestnut-knob-church-5/
LOCATION:WV
END:VEVENT
BEGIN:VEVENT
DTSTART;TZID=America/New_York:20260529T093000
DTEND;TZID=America/New_York:20260529T103000
DTSTAMP:20260423T174113
CREATED:20260422T203153Z
LAST-MODIFIED:20260422T203153Z
UID:3372-1780047000-1780050600@fayette.lib.wv.us
SUMMARY:WALMART
DESCRIPTION:
URL:https://fayette.lib.wv.us/events/walmart-2/
LOCATION:WV
END:VEVENT
BEGIN:VEVENT
DTSTART;TZID=America/New_York:20260529T104500
DTEND;TZID=America/New_York:20260529T111500
DTSTAMP:20260423T174113
CREATED:20260422T203213Z
LAST-MODIFIED:20260422T203213Z
UID:3374-1780051500-1780053300@fayette.lib.wv.us
SUMMARY:FAY. CO SENIOR PROGRAM
DESCRIPTION:
URL:https://fayette.lib.wv.us/events/fay-co-senior-program-2/
LOCATION:WV
END:VEVENT
END:VCALENDAR